BEGIN:VCALENDAR
VERSION:2.0
PRODID:-//IBEW Local 1600 - ECPv6.8.3//NONSGML v1.0//EN
CALSCALE:GREGORIAN
METHOD:PUBLISH
X-ORIGINAL-URL:https://ibew1600.org
X-WR-CALDESC:Events for IBEW Local 1600
REFRESH-INTERVAL;VALUE=DURATION:PT1H
X-Robots-Tag:noindex
X-PUBLISHED-TTL:PT1H
BEGIN:VTIMEZONE
TZID:UTC
BEGIN:STANDARD
TZOFFSETFROM:+0000
TZOFFSETTO:+0000
TZNAME:UTC
DTSTART:20260101T000000
END:STANDARD
END:VTIMEZONE
BEGIN:VEVENT
DTSTART;TZID=UTC:20260416T180000
DTEND;TZID=UTC:20260416T220000
DTSTAMP:20260419T160638
CREATED:20190328T221212Z
LAST-MODIFIED:20260322T200100Z
UID:6563-1776362400-1776376800@ibew1600.org
SUMMARY:General Office  Unit 1600-1
DESCRIPTION:Union Hall \n1259 Grange Road\,   Allentown  \n 
URL:https://ibew1600.org/event/general-office-unit-1600-1/
LOCATION:General Office  Unit 1600-1\, 1259 Grange Road\, Allentown\, United States
CATEGORIES:Unit Meetings
END:VEVENT
BEGIN:VEVENT
DTSTART;TZID=UTC:20260416T180000
DTEND;TZID=UTC:20260416T220000
DTSTAMP:20260419T160638
CREATED:20190328T234102Z
LAST-MODIFIED:20260322T200032Z
UID:6572-1776362400-1776376800@ibew1600.org
SUMMARY:Lehigh Unit 1600-4
DESCRIPTION:Union Hall \n1259 Grange Road\,  Allentown  \n 
URL:https://ibew1600.org/event/lehigh-unit-1600-4/
LOCATION:Lehigh Unit 1600-4\, 1259 Grange Road\, Allentown\, PA\, United States
CATEGORIES:Unit Meetings
END:VEVENT
BEGIN:VEVENT
DTSTART;TZID=UTC:20260416T190000
DTEND;TZID=UTC:20260416T220000
DTSTAMP:20260419T160638
CREATED:20190328T233520Z
LAST-MODIFIED:20260322T195834Z
UID:6566-1776366000-1776376800@ibew1600.org
SUMMARY:Harrisburg Unit 1600-2
DESCRIPTION:New Cumberland VFW \n109 3rd Street \nNew Cumberland\, PA \n 
URL:https://ibew1600.org/event/harrisburg-unit-1600-2/
LOCATION:Harrisburg Unit 1600-2\, 109 3rd Street\, New Cumberland\, PA\, United States
CATEGORIES:Unit Meetings
END:VEVENT
END:VCALENDAR