BEGIN:VCALENDAR
VERSION:2.0
PRODID:-//IBEW Local 1600 - ECPv6.8.3//NONSGML v1.0//EN
CALSCALE:GREGORIAN
METHOD:PUBLISH
X-WR-CALNAME:IBEW Local 1600
X-ORIGINAL-URL:https://ibew1600.org
X-WR-CALDESC:Events for IBEW Local 1600
REFRESH-INTERVAL;VALUE=DURATION:PT1H
X-Robots-Tag:noindex
X-PUBLISHED-TTL:PT1H
BEGIN:VTIMEZONE
TZID:UTC
BEGIN:STANDARD
TZOFFSETFROM:+0000
TZOFFSETTO:+0000
TZNAME:UTC
DTSTART:20260101T000000
END:STANDARD
END:VTIMEZONE
BEGIN:VEVENT
DTSTART;TZID=UTC:20260415T180000
DTEND;TZID=UTC:20260415T220000
DTSTAMP:20260419T155912
CREATED:20190328T234647Z
LAST-MODIFIED:20260322T195956Z
UID:6575-1776276000-1776290400@ibew1600.org
SUMMARY:Central Unit 1600-5 *Even Months will be in Northern
DESCRIPTION:VFW POST \n75 Banks Avenue \nConyngham\,Pa \nEven Months will be in Northern
URL:https://ibew1600.org/event/central-unit-1600-5/
LOCATION:Central Unit 1600-5\, 58 State Road Rt 93\, Hazleton\, PA\, United States
CATEGORIES:Unit Meetings
END:VEVENT
BEGIN:VEVENT
DTSTART;TZID=UTC:20260415T180000
DTEND;TZID=UTC:20260415T220000
DTSTAMP:20260419T155912
CREATED:20190328T234920Z
LAST-MODIFIED:20260322T195931Z
UID:6578-1776276000-1776290400@ibew1600.org
SUMMARY:Northern Unit 1600-6 *Odd months will be in Central
DESCRIPTION:Holiday Inn Scraton \nEast 200 Tigue Street \nDunmore\, Pa 18512 \nOdd months will be in Central
URL:https://ibew1600.org/event/northern-unit-1600-6/
LOCATION:Northern Unit 1600-6\, East 200 Tigue Street\, Dunmore\, PA\, 18512\, United States
CATEGORIES:Unit Meetings
END:VEVENT
END:VCALENDAR